BEGIN:VCALENDAR
VERSION:2.0
PRODID:-//Tukios.com/
BEGIN:VEVENT
UID:6dee7633-31b0-48f2-bbda-e07030864a6c@www.griecofunerals.com
DTSTAMP:20260424T103213Z
DTSTART:20260604T153000Z
DTEND:20260604T163000Z
SUMMARY:Mass
DESCRIPTION:
URL:https://www.griecofunerals.com/obituaries/m-schaumann
LOCATION:Saints Simon and Jude Church 8 Cavanaugh Ct  West Chester PA 
	19382
GEO:39.9648756;-75.5221428
END:VEVENT
END:VCALENDAR