BEGIN:VCALENDAR
VERSION:2.0
PRODID:-//Tukios.com/
BEGIN:VEVENT
UID:5cfb0c7b-f429-4bb8-8dc5-cdbdf640c0fd@www.griecofunerals.com
DTSTAMP:20260424T103316Z
DTSTART:20260604T143000Z
DTEND:20260604T153000Z
SUMMARY:Visitation
DESCRIPTION:
URL:https://www.griecofunerals.com/obituaries/m-schaumann
LOCATION:St. Simon and Jude Catholic Church 8 Cavanaugh Court  West 
	Chester PA 19382
GEO:39.9648756;-75.5221428
END:VEVENT
END:VCALENDAR