BEGIN:VCALENDAR
VERSION:2.0
PRODID:-//Tukios.com/
BEGIN:VEVENT
UID:2a9f8bc6-ada0-4f8f-9467-5bf75eac8fbe@www.griecofunerals.com
DTSTAMP:20260424T103229Z
DTSTART:20260604T163000Z
DTEND:20260604T173000Z
SUMMARY:Interment
DESCRIPTION:
URL:https://www.griecofunerals.com/obituaries/m-schaumann
LOCATION:Holy Cross Cemetery 626 Baily Rd  Yeadon PA 19050
GEO:39.9300552;-75.2581148
END:VEVENT
END:VCALENDAR